Package: chromstaR Version: 1.33.1 Command: /Library/Frameworks/R.framework/Resources/bin/R CMD INSTALL chromstaR StartedAt: 2025-02-17 15:08:11 -0500 (Mon, 17 Feb 2025) EndedAt: 2025-02-17 15:08:12 -0500 (Mon, 17 Feb 2025) EllapsedTime: 1.2 seconds RetCode: 1 Status: ERROR