Package: chromVAR Version: 1.29.0 Command: chmod a+r chromVAR -R && E:\biocbuild\bbs-3.21-bioc\R\bin\R.exe CMD build --keep-empty-dirs --no-resave-data chromVAR StartedAt: 2025-02-20 17:54:08 -0500 (Thu, 20 Feb 2025) EndedAt: 2025-02-20 17:57:17 -0500 (Thu, 20 Feb 2025) EllapsedTime: 189.1 seconds RetCode: 0 Status: OK PackageFile: chromVAR_1.29.0.tar.gz PackageFileSize: 424.1 KiB