Package: chromVAR Version: 1.29.0 Command: /Library/Frameworks/R.framework/Resources/bin/R CMD build --keep-empty-dirs --no-resave-data chromVAR StartedAt: 2025-02-20 15:54:27 -0500 (Thu, 20 Feb 2025) EndedAt: 2025-02-20 15:55:26 -0500 (Thu, 20 Feb 2025) EllapsedTime: 59.6 seconds RetCode: 0 Status: OK PackageFile: chromVAR_1.29.0.tar.gz PackageFileSize: 501.7 KiB