Package: chromPlot Version: 1.35.0 Command: E:\biocbuild\bbs-3.21-bioc\R\bin\R.exe CMD INSTALL chromPlot StartedAt: 2025-02-19 15:59:46 -0500 (Wed, 19 Feb 2025) EndedAt: 2025-02-19 16:00:16 -0500 (Wed, 19 Feb 2025) EllapsedTime: 29.4 seconds RetCode: 0 Status: OK