Package: chromPlot Version: 1.35.0 Command: chmod a+r chromPlot -R && E:\biocbuild\bbs-3.21-bioc\R\bin\R.exe CMD build --keep-empty-dirs --no-resave-data chromPlot StartedAt: 2025-02-18 17:50:22 -0500 (Tue, 18 Feb 2025) EndedAt: 2025-02-18 17:51:19 -0500 (Tue, 18 Feb 2025) EllapsedTime: 57.0 seconds RetCode: 0 Status: OK PackageFile: chromPlot_1.35.0.tar.gz PackageFileSize: 1.355 MiB