Package: chromPlot Version: 1.35.0 Command: /Library/Frameworks/R.framework/Resources/bin/R CMD INSTALL chromPlot StartedAt: 2025-02-20 15:13:28 -0500 (Thu, 20 Feb 2025) EndedAt: 2025-02-20 15:13:35 -0500 (Thu, 20 Feb 2025) EllapsedTime: 6.4 seconds RetCode: 0 Status: OK