Package: chromDraw Version: 2.37.0 Command: /home/biocbuild/bbs-3.21-bioc/R/bin/R CMD build --keep-empty-dirs --no-resave-data chromDraw StartedAt: 2025-02-17 16:36:52 -0500 (Mon, 17 Feb 2025) EndedAt: 2025-02-17 16:37:51 -0500 (Mon, 17 Feb 2025) EllapsedTime: 58.0 seconds RetCode: 0 Status: OK PackageFile: chromDraw_2.37.0.tar.gz PackageFileSize: 2.228 MiB