Package: chopsticks Version: 1.73.0 Command: /home/biocbuild/bbs-3.21-bioc/R/bin/R CMD INSTALL chopsticks StartedAt: 2025-02-17 15:05:36 -0500 (Mon, 17 Feb 2025) EndedAt: 2025-02-17 15:05:59 -0500 (Mon, 17 Feb 2025) EllapsedTime: 22.6 seconds RetCode: 0 Status: OK