Package: chopsticks Version: 1.73.0 Command: /home/biocbuild/bbs-3.21-bioc/R/bin/R CMD check --install=check:chopsticks.install-out.txt --library=/home/biocbuild/bbs-3.21-bioc/R/site-library --timings chopsticks_1.73.0.tar.gz StartedAt: 2025-02-17 20:45:07 -0500 (Mon, 17 Feb 2025) EndedAt: 2025-02-17 20:46:07 -0500 (Mon, 17 Feb 2025) EllapsedTime: 60.1 seconds RetCode: 0 Status: WARNINGS CheckDir: chopsticks.Rcheck Warnings: 3