Package: chopsticks Version: 1.73.0 Command: /home/biocbuild/bbs-3.21-bioc/R/bin/R CMD build --keep-empty-dirs --no-resave-data chopsticks StartedAt: 2025-02-17 16:36:52 -0500 (Mon, 17 Feb 2025) EndedAt: 2025-02-17 16:37:17 -0500 (Mon, 17 Feb 2025) EllapsedTime: 25.0 seconds RetCode: 0 Status: OK PackageFile: chopsticks_1.73.0.tar.gz PackageFileSize: 6.642 MiB