Package: chopsticks Version: 1.73.0 Command: /Library/Frameworks/R.framework/Resources/bin/R CMD check --install=check:chopsticks.install-out.txt --library=/Library/Frameworks/R.framework/Resources/library --no-vignettes --timings chopsticks_1.73.0.tar.gz StartedAt: 2025-02-19 19:28:49 -0500 (Wed, 19 Feb 2025) EndedAt: 2025-02-19 19:29:56 -0500 (Wed, 19 Feb 2025) EllapsedTime: 66.8 seconds RetCode: 0 Status: WARNINGS CheckDir: chopsticks.Rcheck Warnings: 3