Package: chopsticks Version: 1.73.0 Command: /Library/Frameworks/R.framework/Resources/bin/R CMD build --keep-empty-dirs --no-resave-data chopsticks StartedAt: 2025-02-19 16:13:34 -0500 (Wed, 19 Feb 2025) EndedAt: 2025-02-19 16:14:03 -0500 (Wed, 19 Feb 2025) EllapsedTime: 29.7 seconds RetCode: 0 Status: OK PackageFile: chopsticks_1.73.0.tar.gz PackageFileSize: 6.642 MiB