Package: chopsticks Version: 1.73.0 Command: /Library/Frameworks/R.framework/Resources/bin/R CMD INSTALL chopsticks StartedAt: 2025-02-17 15:19:52 -0500 (Mon, 17 Feb 2025) EndedAt: 2025-02-17 15:19:59 -0500 (Mon, 17 Feb 2025) EllapsedTime: 6.7 seconds RetCode: 0 Status: OK