Package: chipseq Version: 1.57.0 Command: /home/biocbuild/bbs-3.21-bioc/R/bin/R CMD INSTALL chipseq StartedAt: 2025-02-19 15:54:06 -0500 (Wed, 19 Feb 2025) EndedAt: 2025-02-19 15:54:34 -0500 (Wed, 19 Feb 2025) EllapsedTime: 28.8 seconds RetCode: 0 Status: OK