Package: chipseq Version: 1.57.0 Command: /Library/Frameworks/R.framework/Resources/bin/R CMD INSTALL chipseq StartedAt: 2025-02-19 15:14:31 -0500 (Wed, 19 Feb 2025) EndedAt: 2025-02-19 15:14:44 -0500 (Wed, 19 Feb 2025) EllapsedTime: 12.8 seconds RetCode: 0 Status: OK