Package: chipseq Version: 1.57.0 Command: /Library/Frameworks/R.framework/Resources/bin/R CMD build --keep-empty-dirs --no-resave-data chipseq StartedAt: 2025-02-20 15:53:30 -0500 (Thu, 20 Feb 2025) EndedAt: 2025-02-20 15:54:31 -0500 (Thu, 20 Feb 2025) EllapsedTime: 60.6 seconds RetCode: 0 Status: OK PackageFile: chipseq_1.57.0.tar.gz PackageFileSize: 2.434 MiB