Package: chipenrich Version: 2.31.0 Command: E:\biocbuild\bbs-3.21-bioc\R\bin\R.exe CMD check --no-multiarch --install=check:chipenrich.install-out.txt --library=E:\biocbuild\bbs-3.21-bioc\R\library --no-vignettes --timings chipenrich_2.31.0.tar.gz StartedAt: 2025-02-20 23:47:06 -0500 (Thu, 20 Feb 2025) EndedAt: 2025-02-20 23:56:41 -0500 (Thu, 20 Feb 2025) EllapsedTime: 574.4 seconds RetCode: 0 Status: OK CheckDir: chipenrich.Rcheck Warnings: 0