Package: chipenrich Version: 2.31.0 Command: chmod a+r chipenrich -R && E:\biocbuild\bbs-3.21-bioc\R\bin\R.exe CMD build --keep-empty-dirs --no-resave-data chipenrich StartedAt: 2025-02-20 17:52:26 -0500 (Thu, 20 Feb 2025) EndedAt: 2025-02-20 17:54:37 -0500 (Thu, 20 Feb 2025) EllapsedTime: 131.0 seconds RetCode: 0 Status: OK PackageFile: chipenrich_2.31.0.tar.gz PackageFileSize: 439.4 KiB