Package: chipenrich Version: 2.31.0 Command: /home/biocbuild/R/R/bin/R CMD INSTALL chipenrich StartedAt: 2025-01-29 20:23:11 -0000 (Wed, 29 Jan 2025) EndedAt: 2025-01-29 20:24:10 -0000 (Wed, 29 Jan 2025) EllapsedTime: 59.0 seconds RetCode: 0 Status: OK