Package: chipenrich Version: 2.31.0 Command: /Library/Frameworks/R.framework/Resources/bin/R CMD check --install=check:chipenrich.install-out.txt --library=/Library/Frameworks/R.framework/Resources/library --no-vignettes --timings chipenrich_2.31.0.tar.gz StartedAt: 2025-02-20 18:29:39 -0500 (Thu, 20 Feb 2025) EndedAt: 2025-02-20 18:32:48 -0500 (Thu, 20 Feb 2025) EllapsedTime: 189.2 seconds RetCode: 0 Status: OK CheckDir: chipenrich.Rcheck Warnings: 0