Package: chipenrich Version: 2.31.0 Command: /Library/Frameworks/R.framework/Resources/bin/R CMD build --keep-empty-dirs --no-resave-data chipenrich StartedAt: 2025-02-20 15:52:53 -0500 (Thu, 20 Feb 2025) EndedAt: 2025-02-20 15:53:30 -0500 (Thu, 20 Feb 2025) EllapsedTime: 37.4 seconds RetCode: 0 Status: OK PackageFile: chipenrich_2.31.0.tar.gz PackageFileSize: 654.1 KiB