Package: chimeraviz Version: 1.33.0 Command: /home/biocbuild/bbs-3.21-bioc/R/bin/R CMD INSTALL chimeraviz StartedAt: 2025-02-19 15:46:12 -0500 (Wed, 19 Feb 2025) EndedAt: 2025-02-19 15:47:07 -0500 (Wed, 19 Feb 2025) EllapsedTime: 55.5 seconds RetCode: 0 Status: OK