Package: chimeraviz Version: 1.33.0 Command: /home/biocbuild/bbs-3.21-bioc/R/bin/R CMD check --install=check:chimeraviz.install-out.txt --library=/home/biocbuild/bbs-3.21-bioc/R/site-library --timings chimeraviz_1.33.0.tar.gz StartedAt: 2025-02-19 20:47:43 -0500 (Wed, 19 Feb 2025) EndedAt: 2025-02-19 21:00:36 -0500 (Wed, 19 Feb 2025) EllapsedTime: 773.1 seconds RetCode: 0 Status: OK CheckDir: chimeraviz.Rcheck Warnings: 0