Package: chimeraviz Version: 1.33.0 Command: /home/biocbuild/bbs-3.21-bioc/R/bin/R CMD build --keep-empty-dirs --no-resave-data chimeraviz StartedAt: 2025-02-19 16:37:02 -0500 (Wed, 19 Feb 2025) EndedAt: 2025-02-19 16:40:33 -0500 (Wed, 19 Feb 2025) EllapsedTime: 211.3 seconds RetCode: 0 Status: OK PackageFile: chimeraviz_1.33.0.tar.gz PackageFileSize: 3.73 MiB