Package: chimeraviz Version: 1.33.0 Command: /Library/Frameworks/R.framework/Resources/bin/R CMD INSTALL chimeraviz StartedAt: 2025-02-20 15:27:34 -0500 (Thu, 20 Feb 2025) EndedAt: 2025-02-20 15:28:48 -0500 (Thu, 20 Feb 2025) EllapsedTime: 74.2 seconds RetCode: 0 Status: OK