Package: chihaya Version: 1.7.0 Command: E:\biocbuild\bbs-3.21-bioc\R\bin\R.exe CMD INSTALL chihaya StartedAt: 2025-02-18 15:53:12 -0500 (Tue, 18 Feb 2025) EndedAt: 2025-02-18 15:54:11 -0500 (Tue, 18 Feb 2025) EllapsedTime: 59.5 seconds RetCode: 0 Status: OK