Package: chihaya Version: 1.7.0 Command: /home/biocbuild/bbs-3.21-bioc/R/bin/R CMD build --keep-empty-dirs --no-resave-data chihaya StartedAt: 2025-02-18 16:33:33 -0500 (Tue, 18 Feb 2025) EndedAt: 2025-02-18 16:34:17 -0500 (Tue, 18 Feb 2025) EllapsedTime: 44.1 seconds RetCode: 0 Status: OK PackageFile: chihaya_1.7.0.tar.gz PackageFileSize: 258.2 KiB