Package: chihaya Version: 1.7.0 Command: /Library/Frameworks/R.framework/Resources/bin/R CMD build --keep-empty-dirs --no-resave-data chihaya StartedAt: 2025-02-18 16:11:16 -0500 (Tue, 18 Feb 2025) EndedAt: 2025-02-18 16:11:57 -0500 (Tue, 18 Feb 2025) EllapsedTime: 41.0 seconds RetCode: 0 Status: OK PackageFile: chihaya_1.7.0.tar.gz PackageFileSize: 258.1 KiB