Package: chevreulProcess Version: 0.99.27 Command: rm -rf chevreulProcess.buildbin-libdir && mkdir chevreulProcess.buildbin-libdir && E:\biocbuild\bbs-3.21-bioc\R\bin\R.exe CMD INSTALL --build --library=chevreulProcess.buildbin-libdir chevreulProcess_0.99.27.tar.gz StartedAt: 2025-02-19 07:07:37 -0500 (Wed, 19 Feb 2025) EndedAt: 2025-02-19 07:10:27 -0500 (Wed, 19 Feb 2025) EllapsedTime: 169.1 seconds RetCode: 0 Status: OK PackageFile: chevreulProcess_0.99.27.zip PackageFileSize: 4.87 MiB