Package: chevreulProcess Version: 0.99.27 Command: /Library/Frameworks/R.framework/Resources/bin/R CMD build --keep-empty-dirs --no-resave-data chevreulProcess StartedAt: 2025-02-18 16:11:03 -0500 (Tue, 18 Feb 2025) EndedAt: 2025-02-18 16:12:15 -0500 (Tue, 18 Feb 2025) EllapsedTime: 71.7 seconds RetCode: 0 Status: OK PackageFile: chevreulProcess_0.99.27.tar.gz PackageFileSize: 4.754 MiB