Package: chevreulProcess Version: 0.99.27 Command: rm -rf chevreulProcess.buildbin-libdir && mkdir chevreulProcess.buildbin-libdir && /Users/biocbuild/BBS/utils/build-universal.sh chevreulProcess_0.99.27.tar.gz /Library/Frameworks/R.framework/Resources/bin/R chevreulProcess.buildbin-libdir StartedAt: 2025-02-20 22:13:25 -0500 (Thu, 20 Feb 2025) EndedAt: 2025-02-20 22:13:48 -0500 (Thu, 20 Feb 2025) EllapsedTime: 23.4 seconds RetCode: 0 Status: OK PackageFile: chevreulProcess_0.99.27.tgz PackageFileSize: 4.866 MiB