Package: chevreulProcess Version: 0.99.27 Maintainer: Kevin Stachelek MaintainerEmail: kevin.stachelek at gmail.com git_url: https://git.bioconductor.org/packages/chevreulProcess git_branch: devel git_last_commit: 0bcf855 git_last_commit_date: 2025-02-11 14:45:39 -0500 (Tue, 11 Feb 2025)