Package: chevreulPlot Version: 0.99.32 Command: chmod a+r chevreulPlot -R && E:\biocbuild\bbs-3.21-bioc\R\bin\R.exe CMD build --keep-empty-dirs --no-resave-data chevreulPlot StartedAt: 2025-02-19 17:49:19 -0500 (Wed, 19 Feb 2025) EndedAt: 2025-02-19 17:49:26 -0500 (Wed, 19 Feb 2025) EllapsedTime: 7.7 seconds RetCode: 1 Status: ERROR PackageFile: None PackageFileSize: NA