Package: chevreulPlot Version: 0.99.32 Command: /Library/Frameworks/R.framework/Resources/bin/R CMD build --keep-empty-dirs --no-resave-data chevreulPlot StartedAt: 2025-02-20 16:11:26 -0500 (Thu, 20 Feb 2025) EndedAt: 2025-02-20 16:11:28 -0500 (Thu, 20 Feb 2025) EllapsedTime: 1.2 seconds RetCode: 1 Status: ERROR PackageFile: None PackageFileSize: NA