Package: cghMCR Version: 1.65.0 Command: rm -rf cghMCR.buildbin-libdir && mkdir cghMCR.buildbin-libdir && E:\biocbuild\bbs-3.21-bioc\R\bin\R.exe CMD INSTALL --build --library=cghMCR.buildbin-libdir cghMCR_1.65.0.tar.gz StartedAt: 2025-02-20 07:27:59 -0500 (Thu, 20 Feb 2025) EndedAt: 2025-02-20 07:29:08 -0500 (Thu, 20 Feb 2025) EllapsedTime: 69.5 seconds RetCode: 0 Status: OK PackageFile: cghMCR_1.65.0.zip PackageFileSize: 36.33 MiB