Package: cghMCR Version: 1.65.0 Command: /home/biocbuild/bbs-3.21-bioc/R/bin/R CMD INSTALL cghMCR StartedAt: 2025-02-19 15:27:48 -0500 (Wed, 19 Feb 2025) EndedAt: 2025-02-19 15:28:08 -0500 (Wed, 19 Feb 2025) EllapsedTime: 19.7 seconds RetCode: 0 Status: OK