Package: cghMCR Version: 1.65.0 Command: /Library/Frameworks/R.framework/Resources/bin/R CMD INSTALL cghMCR StartedAt: 2025-02-19 15:23:39 -0500 (Wed, 19 Feb 2025) EndedAt: 2025-02-19 15:23:48 -0500 (Wed, 19 Feb 2025) EllapsedTime: 8.2 seconds RetCode: 0 Status: OK