Package: cghMCR Version: 1.65.0 Command: /Library/Frameworks/R.framework/Resources/bin/R CMD check --install=check:cghMCR.install-out.txt --library=/Library/Frameworks/R.framework/Resources/library --no-vignettes --timings cghMCR_1.65.0.tar.gz StartedAt: 2025-02-18 18:31:10 -0500 (Tue, 18 Feb 2025) EndedAt: 2025-02-18 18:32:03 -0500 (Tue, 18 Feb 2025) EllapsedTime: 52.7 seconds RetCode: 0 Status: WARNINGS CheckDir: cghMCR.Rcheck Warnings: 1