Package: cfdnakit Version: 1.5.0 Command: E:\biocbuild\bbs-3.21-bioc\R\bin\R.exe CMD INSTALL cfdnakit StartedAt: 2025-02-20 15:41:33 -0500 (Thu, 20 Feb 2025) EndedAt: 2025-02-20 15:42:08 -0500 (Thu, 20 Feb 2025) EllapsedTime: 34.4 seconds RetCode: 0 Status: OK