Package: cfdnakit Version: 1.5.0 Command: /Library/Frameworks/R.framework/Resources/bin/R CMD build --keep-empty-dirs --no-resave-data cfdnakit StartedAt: 2025-02-19 16:10:49 -0500 (Wed, 19 Feb 2025) EndedAt: 2025-02-19 16:11:31 -0500 (Wed, 19 Feb 2025) EllapsedTime: 42.2 seconds RetCode: 0 Status: OK PackageFile: cfdnakit_1.5.0.tar.gz PackageFileSize: 3.021 MiB