Package: cfdnakit Version: 1.5.0 Command: rm -rf cfdnakit.buildbin-libdir && mkdir cfdnakit.buildbin-libdir && /Users/biocbuild/BBS/utils/build-universal.sh cfdnakit_1.5.0.tar.gz /Library/Frameworks/R.framework/Resources/bin/R cfdnakit.buildbin-libdir StartedAt: 2025-02-20 00:24:40 -0500 (Thu, 20 Feb 2025) EndedAt: 2025-02-20 00:25:00 -0500 (Thu, 20 Feb 2025) EllapsedTime: 19.9 seconds RetCode: 0 Status: OK PackageFile: cfdnakit_1.5.0.tgz PackageFileSize: 3.105 MiB