Package: cfTools Version: 1.7.0 Command: chmod a+r cfTools -R && E:\biocbuild\bbs-3.21-bioc\R\bin\R.exe --arch x64 CMD build --keep-empty-dirs --no-resave-data cfTools StartedAt: 2025-02-20 17:49:59 -0500 (Thu, 20 Feb 2025) EndedAt: 2025-02-20 17:57:31 -0500 (Thu, 20 Feb 2025) EllapsedTime: 452.0 seconds RetCode: 1 Status: ERROR PackageFile: None PackageFileSize: NA