Package: cfTools Version: 1.7.0 Command: /home/biocbuild/bbs-3.21-bioc/R/bin/R CMD INSTALL cfTools StartedAt: 2025-02-19 15:26:20 -0500 (Wed, 19 Feb 2025) EndedAt: 2025-02-19 15:27:03 -0500 (Wed, 19 Feb 2025) EllapsedTime: 43.3 seconds RetCode: 0 Status: OK