Package: cfTools Version: 1.7.0 Command: rm -rf cfTools.buildbin-libdir && mkdir cfTools.buildbin-libdir && /Users/biocbuild/BBS/utils/build-universal.sh cfTools_1.7.0.tar.gz /Library/Frameworks/R.framework/Resources/bin/R cfTools.buildbin-libdir StartedAt: 2025-02-21 00:23:21 -0500 (Fri, 21 Feb 2025) EndedAt: 2025-02-21 00:24:19 -0500 (Fri, 21 Feb 2025) EllapsedTime: 57.7 seconds RetCode: 0 Status: OK PackageFile: cfTools_1.7.0.tgz PackageFileSize: 1.201 MiB