Package: cfDNAPro Version: 1.13.0 Command: /home/biocbuild/bbs-3.21-bioc/R/bin/R CMD INSTALL cfDNAPro StartedAt: 2025-02-19 15:33:47 -0500 (Wed, 19 Feb 2025) EndedAt: 2025-02-19 15:34:19 -0500 (Wed, 19 Feb 2025) EllapsedTime: 31.5 seconds RetCode: 0 Status: OK