Package: cfDNAPro Version: 1.13.0 Command: /Library/Frameworks/R.framework/Resources/bin/R CMD INSTALL cfDNAPro StartedAt: 2025-02-20 15:19:18 -0500 (Thu, 20 Feb 2025) EndedAt: 2025-02-20 15:19:31 -0500 (Thu, 20 Feb 2025) EllapsedTime: 13.7 seconds RetCode: 0 Status: OK