Package: cfDNAPro Version: 1.13.0 Command: /Library/Frameworks/R.framework/Resources/bin/R CMD check --install=check:cfDNAPro.install-out.txt --library=/Library/Frameworks/R.framework/Resources/library --no-vignettes --timings cfDNAPro_1.13.0.tar.gz StartedAt: 2025-02-20 18:28:05 -0500 (Thu, 20 Feb 2025) EndedAt: 2025-02-20 18:29:39 -0500 (Thu, 20 Feb 2025) EllapsedTime: 93.2 seconds RetCode: 0 Status: WARNINGS CheckDir: cfDNAPro.Rcheck Warnings: 1