Package: censcyt Version: 1.15.0 Command: /home/biocbuild/bbs-3.21-bioc/R/bin/R CMD build --keep-empty-dirs --no-resave-data censcyt StartedAt: 2025-02-19 16:34:49 -0500 (Wed, 19 Feb 2025) EndedAt: 2025-02-19 16:36:11 -0500 (Wed, 19 Feb 2025) EllapsedTime: 82.1 seconds RetCode: 0 Status: OK PackageFile: censcyt_1.15.0.tar.gz PackageFileSize: 521.8 KiB