Package: cellscape Version: 1.31.0 Command: /home/biocbuild/bbs-3.21-bioc/R/bin/R CMD INSTALL cellscape StartedAt: 2025-02-20 15:16:56 -0500 (Thu, 20 Feb 2025) EndedAt: 2025-02-20 15:17:00 -0500 (Thu, 20 Feb 2025) EllapsedTime: 4.1 seconds RetCode: 0 Status: OK