Package: cellscape Version: 1.31.0 Command: /home/biocbuild/bbs-3.21-bioc/R/bin/R CMD build --keep-empty-dirs --no-resave-data cellscape StartedAt: 2025-02-20 16:50:30 -0500 (Thu, 20 Feb 2025) EndedAt: 2025-02-20 16:50:38 -0500 (Thu, 20 Feb 2025) EllapsedTime: 8.0 seconds RetCode: 0 Status: OK PackageFile: cellscape_1.31.0.tar.gz PackageFileSize: 897.2 KiB